BEGIN:VCALENDAR
VERSION:2.0
PRODID:-//Skaneateles Lake Association - ECPv6.15.18//NONSGML v1.0//EN
CALSCALE:GREGORIAN
METHOD:PUBLISH
X-WR-CALNAME:Skaneateles Lake Association
X-ORIGINAL-URL:https://skaneateleslake.org
X-WR-CALDESC:Events for Skaneateles Lake Association
REFRESH-INTERVAL;VALUE=DURATION:PT1H
X-Robots-Tag:noindex
X-PUBLISHED-TTL:PT1H
BEGIN:VTIMEZONE
TZID:America/New_York
BEGIN:DAYLIGHT
TZOFFSETFROM:-0500
TZOFFSETTO:-0400
TZNAME:EDT
DTSTART:20140309T070000
END:DAYLIGHT
BEGIN:STANDARD
TZOFFSETFROM:-0400
TZOFFSETTO:-0500
TZNAME:EST
DTSTART:20141102T060000
END:STANDARD
BEGIN:DAYLIGHT
TZOFFSETFROM:-0500
TZOFFSETTO:-0400
TZNAME:EDT
DTSTART:20150308T070000
END:DAYLIGHT
BEGIN:STANDARD
TZOFFSETFROM:-0400
TZOFFSETTO:-0500
TZNAME:EST
DTSTART:20151101T060000
END:STANDARD
BEGIN:DAYLIGHT
TZOFFSETFROM:-0500
TZOFFSETTO:-0400
TZNAME:EDT
DTSTART:20160313T070000
END:DAYLIGHT
BEGIN:STANDARD
TZOFFSETFROM:-0400
TZOFFSETTO:-0500
TZNAME:EST
DTSTART:20161106T060000
END:STANDARD
END:VTIMEZONE
BEGIN:VEVENT
DTSTART;TZID=America/New_York:20150712T170000
DTEND;TZID=America/New_York:20150712T190000
DTSTAMP:20260424T132022
CREATED:20150602T143618Z
LAST-MODIFIED:20150616T111107Z
UID:24317-1436720400-1436727600@skaneateleslake.org
SUMMARY:Skaneateles Lake Association 2015 Annual Meeting
DESCRIPTION: 
URL:https://skaneateleslake.org/event/skaneateles-lake-association-2015-annual-meeting/
END:VEVENT
END:VCALENDAR